BEGIN:VCALENDAR
VERSION:2.0
PRODID:-//subjudice-ow.ch - ECPv6.15.13//NONSGML v1.0//EN
CALSCALE:GREGORIAN
METHOD:PUBLISH
X-ORIGINAL-URL:https://subjudice-ow.ch
X-WR-CALDESC:Veranstaltungen im subjudice-ow.ch
REFRESH-INTERVAL;VALUE=DURATION:PT1H
X-Robots-Tag:noindex
X-PUBLISHED-TTL:PT1H
BEGIN:VTIMEZONE
TZID:Europe/Zurich
BEGIN:DAYLIGHT
TZOFFSETFROM:+0100
TZOFFSETTO:+0200
TZNAME:CEST
DTSTART:20250330T010000
END:DAYLIGHT
BEGIN:STANDARD
TZOFFSETFROM:+0200
TZOFFSETTO:+0100
TZNAME:CET
DTSTART:20251026T010000
END:STANDARD
BEGIN:DAYLIGHT
TZOFFSETFROM:+0100
TZOFFSETTO:+0200
TZNAME:CEST
DTSTART:20260329T010000
END:DAYLIGHT
BEGIN:STANDARD
TZOFFSETFROM:+0200
TZOFFSETTO:+0100
TZNAME:CET
DTSTART:20261025T010000
END:STANDARD
BEGIN:DAYLIGHT
TZOFFSETFROM:+0100
TZOFFSETTO:+0200
TZNAME:CEST
DTSTART:20270328T010000
END:DAYLIGHT
BEGIN:STANDARD
TZOFFSETFROM:+0200
TZOFFSETTO:+0100
TZNAME:CET
DTSTART:20271031T010000
END:STANDARD
END:VTIMEZONE
BEGIN:VEVENT
DTSTART;TZID=Europe/Zurich:20260123T090000
DTEND;TZID=Europe/Zurich:20260123T090000
DTSTAMP:20260421T144519
CREATED:20251226T111928Z
LAST-MODIFIED:20251226T111928Z
UID:2836-1769158800-1769158800@subjudice-ow.ch
SUMMARY:SE 21/003/III
DESCRIPTION:Prozessthema: Unterlassung der Buchführung\nZuständig: Kantonsgerichtspräsidentin II
URL:https://subjudice-ow.ch/kalender/se-21-003-iii/
LOCATION:Gerichtssaal; Gerichtsgebäude\, Poststrasse 6\, 6061 Sarnen\, Switzerland
END:VEVENT
BEGIN:VEVENT
DTSTART;TZID=Europe/Zurich:20260126T140000
DTEND;TZID=Europe/Zurich:20260126T170000
DTSTAMP:20260421T144519
CREATED:20251226T112112Z
LAST-MODIFIED:20251226T112409Z
UID:2840-1769436000-1769446800@subjudice-ow.ch
SUMMARY:ZV 24/004/III Sarnen
DESCRIPTION:Prozessthema: Forderung\nZuständig: Kantonsgerichtspräsidentin III
URL:https://subjudice-ow.ch/kalender/zv-24-004-iii-sarnen/
LOCATION:Gerichtssaal; Gerichtsgebäude\, Poststrasse 6\, 6061 Sarnen\, Switzerland
END:VEVENT
BEGIN:VEVENT
DTSTART;TZID=Europe/Zurich:20260129T140000
DTEND;TZID=Europe/Zurich:20260129T170000
DTSTAMP:20260421T144519
CREATED:20251226T112219Z
LAST-MODIFIED:20251226T112219Z
UID:2842-1769695200-1769706000@subjudice-ow.ch
SUMMARY:SE 25/037/I
DESCRIPTION:Prozessthema: Drohung\, Gewalt und Drohung gegen Behörden und Beamte\, Widerhandlung gegen das Waffengesetz\, Ungehorsam des Schuldners im Betreibungs- und Konkursverfahren und Widerhandlung gegen das Betäubungsmittelgesetz\nZuständig: Kantonsgerichtspräsident I
URL:https://subjudice-ow.ch/kalender/se-25-037-i/
LOCATION:Gerichtssaal; Gerichtsgebäude\, Poststrasse 6\, 6061 Sarnen\, Switzerland
END:VEVENT
END:VCALENDAR